BEGIN:VCALENDAR
VERSION:2.0
PRODID:-//Effn McCoy Rocks! - ECPv6.15.17.1//NONSGML v1.0//EN
CALSCALE:GREGORIAN
METHOD:PUBLISH
X-WR-CALNAME:Effn McCoy Rocks!
X-ORIGINAL-URL:https://effnmccoy.com
X-WR-CALDESC:Events for Effn McCoy Rocks!
REFRESH-INTERVAL;VALUE=DURATION:PT1H
X-Robots-Tag:noindex
X-PUBLISHED-TTL:PT1H
BEGIN:VTIMEZONE
TZID:America/Los_Angeles
BEGIN:DAYLIGHT
TZOFFSETFROM:-0800
TZOFFSETTO:-0700
TZNAME:PDT
DTSTART:20250309T100000
END:DAYLIGHT
BEGIN:STANDARD
TZOFFSETFROM:-0700
TZOFFSETTO:-0800
TZNAME:PST
DTSTART:20251102T090000
END:STANDARD
BEGIN:DAYLIGHT
TZOFFSETFROM:-0800
TZOFFSETTO:-0700
TZNAME:PDT
DTSTART:20260308T100000
END:DAYLIGHT
BEGIN:STANDARD
TZOFFSETFROM:-0700
TZOFFSETTO:-0800
TZNAME:PST
DTSTART:20261101T090000
END:STANDARD
BEGIN:DAYLIGHT
TZOFFSETFROM:-0800
TZOFFSETTO:-0700
TZNAME:PDT
DTSTART:20270314T100000
END:DAYLIGHT
BEGIN:STANDARD
TZOFFSETFROM:-0700
TZOFFSETTO:-0800
TZNAME:PST
DTSTART:20271107T090000
END:STANDARD
END:VTIMEZONE
BEGIN:VEVENT
DTSTART;TZID=America/Los_Angeles:20260322T220000
DTEND;TZID=America/Los_Angeles:20260323T020000
DTSTAMP:20260420T003849
CREATED:20260323T034334Z
LAST-MODIFIED:20260323T034334Z
UID:3866-1774216800-1774231200@effnmccoy.com
SUMMARY:Rich & Famous Fashion Show.
DESCRIPTION:Come out and celebrate with the Rich & Famous crew during Los Angeles Fashion Week. Effn McCoy will be performing live.
URL:https://effnmccoy.com/event/rich-famous-fashion-show/
LOCATION:The Kult LA\, 251 Main Street\, Los Angeles\, 90012\, United States
ATTACH;FMTTYPE=image/jpeg:https://effnmccoy.com/wp-content/uploads/2026/03/att.Y3ycMk8MVxnXjRQISB2xiegwkhTTkarPnlDktR6_htA.jpg
END:VEVENT
END:VCALENDAR